BEGIN:VCALENDAR
VERSION:2.0
PRODID:-//Children&#039;s Health Foundation - ECPv6.15.17.1//NONSGML v1.0//EN
CALSCALE:GREGORIAN
METHOD:PUBLISH
X-ORIGINAL-URL:https://islandkidsfirst.com
X-WR-CALDESC:Events for Children&#039;s Health Foundation
REFRESH-INTERVAL;VALUE=DURATION:PT1H
X-Robots-Tag:noindex
X-PUBLISHED-TTL:PT1H
BEGIN:VTIMEZONE
TZID:America/Vancouver
BEGIN:DAYLIGHT
TZOFFSETFROM:-0800
TZOFFSETTO:-0700
TZNAME:PDT
DTSTART:20240310T100000
END:DAYLIGHT
BEGIN:STANDARD
TZOFFSETFROM:-0700
TZOFFSETTO:-0800
TZNAME:PST
DTSTART:20241103T090000
END:STANDARD
BEGIN:DAYLIGHT
TZOFFSETFROM:-0800
TZOFFSETTO:-0700
TZNAME:PDT
DTSTART:20250309T100000
END:DAYLIGHT
BEGIN:STANDARD
TZOFFSETFROM:-0700
TZOFFSETTO:-0800
TZNAME:PST
DTSTART:20251102T090000
END:STANDARD
BEGIN:DAYLIGHT
TZOFFSETFROM:-0800
TZOFFSETTO:-0700
TZNAME:PDT
DTSTART:20260308T100000
END:DAYLIGHT
BEGIN:STANDARD
TZOFFSETFROM:-0700
TZOFFSETTO:-0800
TZNAME:PST
DTSTART:20261101T090000
END:STANDARD
END:VTIMEZONE
BEGIN:VEVENT
DTSTART;TZID=America/Vancouver:20250225T120000
DTEND;TZID=America/Vancouver:20250225T130000
DTSTAMP:20260422T084820
CREATED:20250122T220345Z
LAST-MODIFIED:20250227T001835Z
UID:12600-1740484800-1740488400@islandkidsfirst.com
SUMMARY:Estate Planning Webinar
DESCRIPTION:Join us for a free webinar on Tuesday\, February 25 from 12 to 1 pm. Discover how thoughtful estate planning can help protect your loved ones while creating a meaningful legacy. \nThis lunch-and-learn session\, hosted by Children’s Health Foundation of Vancouver Island\, will feature Sarah Jenkins\, an estate planning associate with Farris LLP. Sarah will show how to create clear and concise wills\, avoid common mistakes\, and safeguard your family’s future. We’ll also explore ways to include charitable giving in your estate plan to make a difference beyond your lifetime. \nThis webinar will provide you with the tools and insights needed to approach the process\, whether you’re starting a new plan or refining an existing one. \nDon’t miss this opportunity to take control of your legacy. \nClick on the button below to register.
URL:https://islandkidsfirst.com/event/estate-planning-webinar/
CATEGORIES:CHF Event
ATTACH;FMTTYPE=image/png:https://islandkidsfirst.com/wp-content/uploads/2025/01/Estate-Planning-Webinar-.png
END:VEVENT
END:VCALENDAR