BEGIN:VCALENDAR
VERSION:2.0
PRODID:-//Children&#039;s Health Foundation - ECPv6.15.17.1//NONSGML v1.0//EN
CALSCALE:GREGORIAN
METHOD:PUBLISH
X-WR-CALNAME:Children&#039;s Health Foundation
X-ORIGINAL-URL:https://islandkidsfirst.com
X-WR-CALDESC:Events for Children&#039;s Health Foundation
REFRESH-INTERVAL;VALUE=DURATION:PT1H
X-Robots-Tag:noindex
X-PUBLISHED-TTL:PT1H
BEGIN:VTIMEZONE
TZID:America/Vancouver
BEGIN:DAYLIGHT
TZOFFSETFROM:-0800
TZOFFSETTO:-0700
TZNAME:PDT
DTSTART:20250309T100000
END:DAYLIGHT
BEGIN:STANDARD
TZOFFSETFROM:-0700
TZOFFSETTO:-0800
TZNAME:PST
DTSTART:20251102T090000
END:STANDARD
BEGIN:DAYLIGHT
TZOFFSETFROM:-0800
TZOFFSETTO:-0700
TZNAME:PDT
DTSTART:20260308T100000
END:DAYLIGHT
BEGIN:STANDARD
TZOFFSETFROM:-0700
TZOFFSETTO:-0800
TZNAME:PST
DTSTART:20261101T090000
END:STANDARD
BEGIN:DAYLIGHT
TZOFFSETFROM:-0800
TZOFFSETTO:-0700
TZNAME:PDT
DTSTART:20270314T100000
END:DAYLIGHT
BEGIN:STANDARD
TZOFFSETFROM:-0700
TZOFFSETTO:-0800
TZNAME:PST
DTSTART:20271107T090000
END:STANDARD
END:VTIMEZONE
BEGIN:VEVENT
DTSTART;VALUE=DATE:20260506
DTEND;VALUE=DATE:20260507
DTSTAMP:20260421T092344
CREATED:20250425T193817Z
LAST-MODIFIED:20260414T184454Z
UID:13282-1778025600-1778111999@islandkidsfirst.com
SUMMARY:McHappy Day
DESCRIPTION:Join us on Wednesday\, May 6\, for McHappy Day! By enjoying your favourite menu items all day\, you’ll make a positive impact on Island kids.  \nA portion of all proceeds from participating McDonald’s restaurants in Greater Victoria goes directly to Jeneece Place — our Home Away From Home next to Victoria General Hospital.  \nJeneece Place offers welcoming\, affordable accommodation for families who need to travel for their child’s health care.  \nOrder in-restaurant\, at the Drive-Thru\, via the McDonald’s app\, or with your delivery app.  \n  \nHow you can support \nOrder anything off the menu: Grab a coffee\, a combo meal\, or a sweet treat and support Island families.  \nRound up for Jeneece Place: Round up your order total to the nearest dollar to donate the difference.  \nBuy socks: Pick up a pair of McHappy Day Socks or make a donation for a Heart ($2\, $5\, or $10). Available in-store\, at the drive-thru\, or on the McDonald’s app.  \nNo McDelivery Fee: Enjoy $0 delivery fee on all McDelivery orders made through the McDonald’s app or on your favourite delivery app. 
URL:https://islandkidsfirst.com/event/mchappy-day/
LOCATION:Greater Victoria\, Canada
CATEGORIES:Third Party Event
ATTACH;FMTTYPE=image/png:https://islandkidsfirst.com/wp-content/uploads/2025/04/MCHD20206.png
END:VEVENT
END:VCALENDAR